BEGIN:VCALENDAR
VERSION:2.0
PRODID:-//Warsop Parish Council//Meeting Calendar//EN
CALSCALE:GREGORIAN
METHOD:PUBLISH
BEGIN:VEVENT
UID:70463-20250724@warsop-pc.gov.uk
DTSTAMP:20260425T133259Z
DTSTART;VALUE=DATE:20250724
DTEND;VALUE=DATE:20250725
SUMMARY:Human Resources Meeting  &#8211\\;  24 July 2025
DESCRIPTION:Human Resources Meeting Meeting\nView details: https://warsop-pc.gov.uk/meetings/human-resources-meeting-24-july-2025/
URL:https://warsop-pc.gov.uk/meetings/human-resources-meeting-24-july-2025/
END:VEVENT
END:VCALENDAR
