BEGIN:VCALENDAR
VERSION:2.0
PRODID:-//Warsop Parish Council//Meeting Calendar//EN
CALSCALE:GREGORIAN
METHOD:PUBLISH
BEGIN:VEVENT
UID:70465-20250721@warsop-pc.gov.uk
DTSTAMP:20260425T150624Z
DTSTART;VALUE=DATE:20250721
DTEND;VALUE=DATE:20250722
SUMMARY:Full Parish Council Meeting &#8211\\; 21 July 2025
DESCRIPTION:Full Council Meeting\nView details: https://warsop-pc.gov.uk/meetings/full-parish-council-meeting-21-july-2025/
URL:https://warsop-pc.gov.uk/meetings/full-parish-council-meeting-21-july-2025/
END:VEVENT
END:VCALENDAR
