BEGIN:VCALENDAR
VERSION:2.0
PRODID:-//Warsop Parish Council//Meeting Calendar//EN
CALSCALE:GREGORIAN
METHOD:PUBLISH
BEGIN:VEVENT
UID:70469-20250703@warsop-pc.gov.uk
DTSTAMP:20260425T145242Z
DTSTART;VALUE=DATE:20250703
DTEND;VALUE=DATE:20250704
SUMMARY:Finance and General Purposes Meeting &#8211\\;  3 July 2025
DESCRIPTION:Finance &amp; General Purposes Meeting\nView details: https://warsop-pc.gov.uk/meetings/finance-and-general-purposes-meeting-3-july-2025/
URL:https://warsop-pc.gov.uk/meetings/finance-and-general-purposes-meeting-3-july-2025/
END:VEVENT
END:VCALENDAR
