BEGIN:VCALENDAR
VERSION:2.0
PRODID:-//Warsop Parish Council//Meeting Calendar//EN
CALSCALE:GREGORIAN
METHOD:PUBLISH
BEGIN:VEVENT
UID:70470-20250623@warsop-pc.gov.uk
DTSTAMP:20260425T153211Z
DTSTART;VALUE=DATE:20250623
DTEND;VALUE=DATE:20250624
SUMMARY:Full Parish Council Meeting &#8211\\; 23 June 2025
DESCRIPTION:Full Council Meeting\nView details: https://warsop-pc.gov.uk/meetings/full-parish-council-meeting-23-june-2025/
URL:https://warsop-pc.gov.uk/meetings/full-parish-council-meeting-23-june-2025/
END:VEVENT
END:VCALENDAR
