BEGIN:VCALENDAR
VERSION:2.0
PRODID:-//Warsop Parish Council//Meeting Calendar//EN
CALSCALE:GREGORIAN
METHOD:PUBLISH
BEGIN:VEVENT
UID:70474-20250428@warsop-pc.gov.uk
DTSTAMP:20260425T134849Z
DTSTART;VALUE=DATE:20250428
DTEND;VALUE=DATE:20250429
SUMMARY:Full Parish Council Meeting &#8211\\; 28 April 2025
DESCRIPTION:Full Council Meeting\nView details: https://warsop-pc.gov.uk/meetings/full-parish-council-meeting-28-april-2025/
URL:https://warsop-pc.gov.uk/meetings/full-parish-council-meeting-28-april-2025/
END:VEVENT
END:VCALENDAR
