BEGIN:VCALENDAR
VERSION:2.0
PRODID:-//Warsop Parish Council//Meeting Calendar//EN
CALSCALE:GREGORIAN
METHOD:PUBLISH
BEGIN:VEVENT
UID:70476-20250331@warsop-pc.gov.uk
DTSTAMP:20260419T150254Z
DTSTART;VALUE=DATE:20250331
DTEND;VALUE=DATE:20250401
SUMMARY:Annual Parish Council Meeting &#8211\\; 31 March 2025
DESCRIPTION:Annual Parish Meeting\nView details: https://warsop-pc.gov.uk/meetings/annual-parish-council-meeting-31-march-2025/
URL:https://warsop-pc.gov.uk/meetings/annual-parish-council-meeting-31-march-2025/
END:VEVENT
END:VCALENDAR
