BEGIN:VCALENDAR
VERSION:2.0
PRODID:-//Warsop Parish Council//Meeting Calendar//EN
CALSCALE:GREGORIAN
METHOD:PUBLISH
BEGIN:VEVENT
UID:70477-20250217@warsop-pc.gov.uk
DTSTAMP:20260425T134225Z
DTSTART;VALUE=DATE:20250217
DTEND;VALUE=DATE:20250218
SUMMARY:Full Parish Council Meeting &#8211\\; 17 February 2025
DESCRIPTION:Full Council Meeting\nView details: https://warsop-pc.gov.uk/meetings/full-parish-council-meeting-17-february-2025/
URL:https://warsop-pc.gov.uk/meetings/full-parish-council-meeting-17-february-2025/
END:VEVENT
END:VCALENDAR
