BEGIN:VCALENDAR
VERSION:2.0
PRODID:-//Warsop Parish Council//Meeting Calendar//EN
CALSCALE:GREGORIAN
METHOD:PUBLISH
BEGIN:VEVENT
UID:70479-20250120@warsop-pc.gov.uk
DTSTAMP:20260425T115918Z
DTSTART;VALUE=DATE:20250120
DTEND;VALUE=DATE:20250121
SUMMARY:Full Parish Council Meeting &#8211\\; 20 January 2025
DESCRIPTION:Full Council Meeting\nView details: https://warsop-pc.gov.uk/meetings/full-parish-council-meeting-20-january-2025/
URL:https://warsop-pc.gov.uk/meetings/full-parish-council-meeting-20-january-2025/
END:VEVENT
END:VCALENDAR
