BEGIN:VCALENDAR
VERSION:2.0
PRODID:-//Warsop Parish Council//Meeting Calendar//EN
CALSCALE:GREGORIAN
METHOD:PUBLISH
BEGIN:VEVENT
UID:70588-20240101@warsop-pc.gov.uk
DTSTAMP:20260425T102741Z
DTSTART;VALUE=DATE:20240101
DTEND;VALUE=DATE:20240102
SUMMARY:Full Parish Council Meeting &#8211\\; 2024
DESCRIPTION:Full Council Meeting\nView details: https://warsop-pc.gov.uk/meetings/full-parish-council-meeting-2024/
URL:https://warsop-pc.gov.uk/meetings/full-parish-council-meeting-2024/
END:VEVENT
END:VCALENDAR
