BEGIN:VCALENDAR
VERSION:2.0
PRODID:-//Warsop Parish Council//Meeting Calendar//EN
CALSCALE:GREGORIAN
METHOD:PUBLISH
BEGIN:VEVENT
UID:70706-20251110@warsop-pc.gov.uk
DTSTAMP:20260425T131719Z
DTSTART;VALUE=DATE:20251110
DTEND;VALUE=DATE:20251111
SUMMARY:F&#038\\;GP Committee Meeting 10th November 2025
DESCRIPTION:Finance &amp; General Purposes Meeting\nView details: https://warsop-pc.gov.uk/meetings/fgp-committee-meeting-10th-november-2025/
URL:https://warsop-pc.gov.uk/meetings/fgp-committee-meeting-10th-november-2025/
END:VEVENT
END:VCALENDAR
