BEGIN:VCALENDAR
VERSION:2.0
PRODID:-//Warsop Parish Council//Meeting Calendar//EN
CALSCALE:GREGORIAN
METHOD:PUBLISH
BEGIN:VEVENT
UID:70717-20250915@warsop-pc.gov.uk
DTSTAMP:20260425T132939Z
DTSTART;VALUE=DATE:20250915
DTEND;VALUE=DATE:20250916
SUMMARY:F&#038\\;GP Committee Meeting 15th September 2025
DESCRIPTION:Finance &amp; General Purposes Meeting\nView details: https://warsop-pc.gov.uk/meetings/fgp-committee-meeting-15th-september-2025/
URL:https://warsop-pc.gov.uk/meetings/fgp-committee-meeting-15th-september-2025/
END:VEVENT
END:VCALENDAR
