BEGIN:VCALENDAR
VERSION:2.0
PRODID:-//Warsop Parish Council//Meeting Calendar//EN
CALSCALE:GREGORIAN
METHOD:PUBLISH
BEGIN:VEVENT
UID:70783-20260112@warsop-pc.gov.uk
DTSTAMP:20260425T120636Z
DTSTART;VALUE=DATE:20260112
DTEND;VALUE=DATE:20260113
SUMMARY:HR Committee Meeting 12th January 2026
DESCRIPTION:Human Resources Meeting Meeting\nView details: https://warsop-pc.gov.uk/meetings/hr-committee-meeting-12th-january-2026/
URL:https://warsop-pc.gov.uk/meetings/hr-committee-meeting-12th-january-2026/
END:VEVENT
END:VCALENDAR
