BEGIN:VCALENDAR
VERSION:2.0
PRODID:-//Warsop Parish Council//Meeting Calendar//EN
CALSCALE:GREGORIAN
METHOD:PUBLISH
BEGIN:VEVENT
UID:70784-20260112@warsop-pc.gov.uk
DTSTAMP:20260425T121819Z
DTSTART;VALUE=DATE:20260112
DTEND;VALUE=DATE:20260113
SUMMARY:F&#038\\;GP Committee Meeting 12th January 2026
DESCRIPTION:Finance &amp; General Purposes Meeting\nView details: https://warsop-pc.gov.uk/meetings/fgp-committee-meeting-12th-january-2026/
URL:https://warsop-pc.gov.uk/meetings/fgp-committee-meeting-12th-january-2026/
END:VEVENT
END:VCALENDAR
