BEGIN:VCALENDAR
VERSION:2.0
PRODID:-//Warsop Parish Council//Meeting Calendar//EN
CALSCALE:GREGORIAN
METHOD:PUBLISH
BEGIN:VEVENT
UID:70894-20260209@warsop-pc.gov.uk
DTSTAMP:20260425T103333Z
DTSTART;VALUE=DATE:20260209
DTEND;VALUE=DATE:20260210
SUMMARY:Finance &#038\\; General Purpose Meeting 9th February 2026
DESCRIPTION:Finance &amp; General Purposes Meeting\nView details: https://warsop-pc.gov.uk/meetings/finance-general-purpose-meeting-6pm/
URL:https://warsop-pc.gov.uk/meetings/finance-general-purpose-meeting-6pm/
END:VEVENT
END:VCALENDAR
