BEGIN:VCALENDAR
VERSION:2.0
PRODID:-//Warsop Parish Council//Meeting Calendar//EN
CALSCALE:GREGORIAN
METHOD:PUBLISH
BEGIN:VEVENT
UID:71204-20260518@warsop-pc.gov.uk
DTSTAMP:20260419T132846Z
DTSTART;VALUE=DATE:20260518
DTEND;VALUE=DATE:20260519
SUMMARY:Annual Meeting of Warsop Parish 18th May 2026
DESCRIPTION:Annual Parish Meeting\nView details: https://warsop-pc.gov.uk/meetings/annual-meeting-of-warsop-parish/
URL:https://warsop-pc.gov.uk/meetings/annual-meeting-of-warsop-parish/
END:VEVENT
END:VCALENDAR
