BEGIN:VCALENDAR
VERSION:2.0
PRODID:-//Warsop Parish Council//Meeting Calendar//EN
CALSCALE:GREGORIAN
METHOD:PUBLISH
BEGIN:VEVENT
UID:71365-20260914@warsop-pc.gov.uk
DTSTAMP:20260419T132846Z
DTSTART;VALUE=DATE:20260914
DTEND;VALUE=DATE:20260915
SUMMARY:HR Committee Meeting 14th September 2026
DESCRIPTION:Human Resources Meeting Meeting\nView details: https://warsop-pc.gov.uk/meetings/hr-committee-meeting-14th-september-2026/
URL:https://warsop-pc.gov.uk/meetings/hr-committee-meeting-14th-september-2026/
END:VEVENT
END:VCALENDAR
